BEGIN:VCALENDAR
VERSION:2.0
PRODID:-//Old Church Centre - ECPv6.15.20//NONSGML v1.0//EN
CALSCALE:GREGORIAN
METHOD:PUBLISH
X-WR-CALNAME:Old Church Centre
X-ORIGINAL-URL:https://theoldchurchcentre.com
X-WR-CALDESC:Events for Old Church Centre
REFRESH-INTERVAL;VALUE=DURATION:PT1H
X-Robots-Tag:noindex
X-PUBLISHED-TTL:PT1H
BEGIN:VTIMEZONE
TZID:Europe/London
BEGIN:DAYLIGHT
TZOFFSETFROM:+0000
TZOFFSETTO:+0100
TZNAME:BST
DTSTART:20220327T010000
END:DAYLIGHT
BEGIN:STANDARD
TZOFFSETFROM:+0100
TZOFFSETTO:+0000
TZNAME:GMT
DTSTART:20221030T010000
END:STANDARD
BEGIN:DAYLIGHT
TZOFFSETFROM:+0000
TZOFFSETTO:+0100
TZNAME:BST
DTSTART:20230326T010000
END:DAYLIGHT
BEGIN:STANDARD
TZOFFSETFROM:+0100
TZOFFSETTO:+0000
TZNAME:GMT
DTSTART:20231029T010000
END:STANDARD
BEGIN:DAYLIGHT
TZOFFSETFROM:+0000
TZOFFSETTO:+0100
TZNAME:BST
DTSTART:20240331T010000
END:DAYLIGHT
BEGIN:STANDARD
TZOFFSETFROM:+0100
TZOFFSETTO:+0000
TZNAME:GMT
DTSTART:20241027T010000
END:STANDARD
END:VTIMEZONE
BEGIN:VEVENT
DTSTART;TZID=Europe/London:20230429T110000
DTEND;TZID=Europe/London:20230429T160000
DTSTAMP:20260424T110327
CREATED:20230404T142050Z
LAST-MODIFIED:20230404T201813Z
UID:243140-1682766000-1682784000@theoldchurchcentre.com
SUMMARY:Painting for Pleasure Exhibition
DESCRIPTION:Join Alastair and Bridget on this special occasion to showcase some fantastic artwork by local artists\, many of whom attend the weekly art class in the Old Church Centre. There will be opportunities to buy but similarly\, everyone is very welcome to view!
URL:https://theoldchurchcentre.com/event/painting-for-pleasure-exhibition/2023-04-29/
LOCATION:Glenmona House\, 10 Glendun Rd\, Cushendun\, BT44 0PX
CATEGORIES:Big Arts Weekend
END:VEVENT
END:VCALENDAR