BEGIN:VCALENDAR
VERSION:2.0
PRODID:-//Old Church Centre - ECPv6.15.20//NONSGML v1.0//EN
CALSCALE:GREGORIAN
METHOD:PUBLISH
X-WR-CALNAME:Old Church Centre
X-ORIGINAL-URL:https://theoldchurchcentre.com
X-WR-CALDESC:Events for Old Church Centre
REFRESH-INTERVAL;VALUE=DURATION:PT1H
X-Robots-Tag:noindex
X-PUBLISHED-TTL:PT1H
BEGIN:VTIMEZONE
TZID:Europe/London
BEGIN:DAYLIGHT
TZOFFSETFROM:+0000
TZOFFSETTO:+0100
TZNAME:BST
DTSTART:20210328T010000
END:DAYLIGHT
BEGIN:STANDARD
TZOFFSETFROM:+0100
TZOFFSETTO:+0000
TZNAME:GMT
DTSTART:20211031T010000
END:STANDARD
BEGIN:DAYLIGHT
TZOFFSETFROM:+0000
TZOFFSETTO:+0100
TZNAME:BST
DTSTART:20220327T010000
END:DAYLIGHT
BEGIN:STANDARD
TZOFFSETFROM:+0100
TZOFFSETTO:+0000
TZNAME:GMT
DTSTART:20221030T010000
END:STANDARD
BEGIN:DAYLIGHT
TZOFFSETFROM:+0000
TZOFFSETTO:+0100
TZNAME:BST
DTSTART:20230326T010000
END:DAYLIGHT
BEGIN:STANDARD
TZOFFSETFROM:+0100
TZOFFSETTO:+0000
TZNAME:GMT
DTSTART:20231029T010000
END:STANDARD
END:VTIMEZONE
BEGIN:VEVENT
DTSTART;TZID=Europe/London:20220815T093000
DTEND;TZID=Europe/London:20220815T130000
DTSTAMP:20260424T173038
CREATED:20220706T190217Z
LAST-MODIFIED:20220706T190217Z
UID:3365-1660555800-1660568400@theoldchurchcentre.com
SUMMARY:Summer Fun in Cushendun - Drama Workshops
DESCRIPTION:Glens Youth Drama Two Day Workshop: P1-P4\n\n\n\n\n\n\n\nIn collaboration with Karen from Glens Youth Drama\, the Old Church Centre brings a special August 2 day drama workshop to Cushendun! \n\nMonday 15 & Tuesday 16: P1-P4 (Sept 2023 school year)\nThemed on Irish myths and legends\nTwo day intensive drama workshop with performance on the second day\nNo experience necessary!\nBring a good attitude\, enthusiasm\, comfortable clothes/shoes and a packed lunch\n£10 per child – must be available for both days\n\nBook here: https://www.ticketsource.co.uk/cushendunbpt/t-rplmvgk
URL:https://theoldchurchcentre.com/event/summer-fun-in-cushendun-drama-workshops/2022-08-15/
LOCATION:The Old Church Centre\, 1 Church Lane\, Cushendun\, BT44 0PS
CATEGORIES:Class,Community,Kids
ATTACH;FMTTYPE=image/png:https://theoldchurchcentre.com/wp-content/uploads/2022/07/Drama-school-poster1-A4-Document.png
END:VEVENT
END:VCALENDAR