BEGIN:VCALENDAR
VERSION:2.0
PRODID:-//Old Church Centre - ECPv6.15.20//NONSGML v1.0//EN
CALSCALE:GREGORIAN
METHOD:PUBLISH
X-ORIGINAL-URL:https://theoldchurchcentre.com
X-WR-CALDESC:Events for Old Church Centre
REFRESH-INTERVAL;VALUE=DURATION:PT1H
X-Robots-Tag:noindex
X-PUBLISHED-TTL:PT1H
BEGIN:VTIMEZONE
TZID:Europe/London
BEGIN:DAYLIGHT
TZOFFSETFROM:+0000
TZOFFSETTO:+0100
TZNAME:BST
DTSTART:20210328T010000
END:DAYLIGHT
BEGIN:STANDARD
TZOFFSETFROM:+0100
TZOFFSETTO:+0000
TZNAME:GMT
DTSTART:20211031T010000
END:STANDARD
BEGIN:DAYLIGHT
TZOFFSETFROM:+0000
TZOFFSETTO:+0100
TZNAME:BST
DTSTART:20220327T010000
END:DAYLIGHT
BEGIN:STANDARD
TZOFFSETFROM:+0100
TZOFFSETTO:+0000
TZNAME:GMT
DTSTART:20221030T010000
END:STANDARD
BEGIN:DAYLIGHT
TZOFFSETFROM:+0000
TZOFFSETTO:+0100
TZNAME:BST
DTSTART:20230326T010000
END:DAYLIGHT
BEGIN:STANDARD
TZOFFSETFROM:+0100
TZOFFSETTO:+0000
TZNAME:GMT
DTSTART:20231029T010000
END:STANDARD
BEGIN:DAYLIGHT
TZOFFSETFROM:+0000
TZOFFSETTO:+0100
TZNAME:BST
DTSTART:20240331T010000
END:DAYLIGHT
BEGIN:STANDARD
TZOFFSETFROM:+0100
TZOFFSETTO:+0000
TZNAME:GMT
DTSTART:20241027T010000
END:STANDARD
END:VTIMEZONE
BEGIN:VEVENT
DTSTART;TZID=Europe/London:20230302T190000
DTEND;TZID=Europe/London:20230302T200000
DTSTAMP:20260424T110026
CREATED:20230221T140233Z
LAST-MODIFIED:20230303T095835Z
UID:3849-1677783600-1677787200@theoldchurchcentre.com
SUMMARY:Yoga with Jackie
DESCRIPTION:
URL:https://theoldchurchcentre.com/event/yoga-with-jackie-3/2023-03-02/
LOCATION:The Old Church Centre\, 1 Church Lane\, Cushendun\, BT44 0PS
CATEGORIES:Class
ATTACH;FMTTYPE=image/jpeg:https://theoldchurchcentre.com/wp-content/uploads/2023/02/yoga.jpg
END:VEVENT
BEGIN:VEVENT
DTSTART;TZID=Europe/London:20230226T120000
DTEND;TZID=Europe/London:20230226T160000
DTSTAMP:20260424T110026
CREATED:20230220T143905Z
LAST-MODIFIED:20230220T143905Z
UID:3802-1677412800-1677427200@theoldchurchcentre.com
SUMMARY:Pop Up Tea Shop
DESCRIPTION:
URL:https://theoldchurchcentre.com/event/pop-up-tea-shop-8/
ATTACH;FMTTYPE=image/png:https://theoldchurchcentre.com/wp-content/uploads/2023/01/POP-UP-TEA-ROOM-COREX-1.png
END:VEVENT
BEGIN:VEVENT
DTSTART;TZID=Europe/London:20230211T193000
DTEND;TZID=Europe/London:20230211T234500
DTSTAMP:20260424T110026
CREATED:20221205T213809Z
LAST-MODIFIED:20230120T110243Z
UID:3708-1676143800-1676159100@theoldchurchcentre.com
SUMMARY:The Love Boat Murder Mystery Evening
DESCRIPTION:  \n \nClick the link below to book: \nhttps://www.ticketsource.co.uk/cushendunbpt/t-avaxqnm
URL:https://theoldchurchcentre.com/event/the-love-boat-murder-mystery-evening/
LOCATION:The Old Church Centre\, 1 Church Lane\, Cushendun\, BT44 0PS
ATTACH;FMTTYPE=image/jpeg:https://theoldchurchcentre.com/wp-content/uploads/2022/12/Your-paragraph-text-6.jpg
END:VEVENT
BEGIN:VEVENT
DTSTART;TZID=Europe/London:20230210T193000
DTEND;TZID=Europe/London:20230210T230000
DTSTAMP:20260424T110026
CREATED:20230110T113555Z
LAST-MODIFIED:20230110T113655Z
UID:3748-1676057400-1676070000@theoldchurchcentre.com
SUMMARY:The Rapparees
DESCRIPTION:
URL:https://theoldchurchcentre.com/event/the-rapparees-2/
LOCATION:The Old Church Centre\, 1 Church Lane\, Cushendun\, BT44 0PS
ATTACH;FMTTYPE=image/jpeg:https://theoldchurchcentre.com/wp-content/uploads/2023/01/Your-paragraph-text-10.jpg
END:VEVENT
BEGIN:VEVENT
DTSTART;TZID=Europe/London:20230205T190000
DTEND;TZID=Europe/London:20230205T220000
DTSTAMP:20260424T110026
CREATED:20230126T100229Z
LAST-MODIFIED:20230131T134849Z
UID:3777-1675623600-1675634400@theoldchurchcentre.com
SUMMARY:Invisible with Clare McKay & Friends
DESCRIPTION:Poster Old Church 5th Feb 23 3 \nBooking Link: https://www.ticketsource.co.uk/oldchurchcentre/t-dvkyaad \nMusic\nPoetry\nDrama\nStorytelling \nEvening Events\nMusic:\nWith Cairan & Helen O’Kane \nDrama:\nWith Ad Hoc Theatre.\n‘Doorways & Street Corners’\nFeaturing:\nJenny Mc Carley\, Michael Grey &\nHannah Mark \nPoetry\nBy: Clare McKay \nStorytelling:\nWith: Stephen O’Hara & Clare\nMcKay \nsupporting the Simon Community
URL:https://theoldchurchcentre.com/event/invisible-with-clare-mckay-friends/
LOCATION:The Old Church Centre\, 1 Church Lane\, Cushendun\, BT44 0PS
END:VEVENT
BEGIN:VEVENT
DTSTART;TZID=Europe/London:20230201T080000
DTEND;TZID=Europe/London:20230201T170000
DTSTAMP:20260424T110026
CREATED:20230320T082549Z
LAST-MODIFIED:20230321T132032Z
UID:242920-1675238400-1675270800@theoldchurchcentre.com
SUMMARY:Reunion TEST
DESCRIPTION:Grace hasn’t seen her siblings in ten years. Not that she didn’t want to…it just wasn’t an option.He wouldn’t allow it. \nYears later\, finally together again and no one knows where to begin. A decade of christenings and birthdays and funerals.\nBut they all know it started with him. \nSo\, sitting in a room no one wants to be in\, having a conversation nobody should ever have to have\, one family finally gets the chance. For Reunion. \nA play about family\, love and everything that went before. \nWritten by Julie Dutkiewicz\nDirected by Paula McFetridge \nProduced by Kabosh as part of the Imagine! Festival of Ideas and Politics. \nCast: Cathy Brennan-Bradley\, Louise Mathews and Vincent Higgins\nImage by Victoria J. Dean \n \n  \n 
URL:https://theoldchurchcentre.com/event/reunion-test/
CATEGORIES:Performance
ATTACH;FMTTYPE=image/jpeg:https://theoldchurchcentre.com/wp-content/uploads/2023/03/Reunion-Sized.jpg
END:VEVENT
BEGIN:VEVENT
DTSTART;TZID=Europe/London:20230129T193000
DTEND;TZID=Europe/London:20230129T213000
DTSTAMP:20260424T110026
CREATED:20230124T095930Z
LAST-MODIFIED:20230124T095931Z
UID:3774-1675020600-1675027800@theoldchurchcentre.com
SUMMARY:The Banshees Of Inisherin
DESCRIPTION:Booking Link: \nhttps://www.ticketsource.co.uk/oldchurchcentre/t-yaegarv
URL:https://theoldchurchcentre.com/event/the-banshees-of-inisherin/
LOCATION:The Old Church Centre\, 1 Church Lane\, Cushendun\, BT44 0PS
ATTACH;FMTTYPE=image/jpeg:https://theoldchurchcentre.com/wp-content/uploads/2023/01/CUSHENDUN-COMMUNITY-CINEMA-SUMMER-2022.jpg
END:VEVENT
BEGIN:VEVENT
DTSTART;TZID=Europe/London:20230129T110000
DTEND;TZID=Europe/London:20230129T160000
DTSTAMP:20260424T110026
CREATED:20230121T134624Z
LAST-MODIFIED:20230121T134643Z
UID:3766-1674990000-1675008000@theoldchurchcentre.com
SUMMARY:Pop up Tea Shop
DESCRIPTION:
URL:https://theoldchurchcentre.com/event/pop-up-tea-shop-7/
ATTACH;FMTTYPE=image/png:https://theoldchurchcentre.com/wp-content/uploads/2023/01/POP-UP-TEA-ROOM-COREX-1.png
END:VEVENT
BEGIN:VEVENT
DTSTART;TZID=Europe/London:20230128T193000
DTEND;TZID=Europe/London:20230128T210000
DTSTAMP:20260424T110026
CREATED:20230121T134008Z
LAST-MODIFIED:20230121T134126Z
UID:3763-1674934200-1674939600@theoldchurchcentre.com
SUMMARY:Burns Night at the Old Church
DESCRIPTION:We look forward to seeing you at this lovely event\, please book your place by clicking the link below: \nhttps://www.ticketsource.co.uk/oldchurchcentre/t-dvjkgze
URL:https://theoldchurchcentre.com/event/burns-night-at-the-old-church/
LOCATION:The Old Church Centre\, 1 Church Lane\, Cushendun\, BT44 0PS
ATTACH;FMTTYPE=image/png:https://theoldchurchcentre.com/wp-content/uploads/2023/01/Red-Minimalist-Happy-Burns-Night-Poster.png
END:VEVENT
BEGIN:VEVENT
DTSTART;TZID=Europe/London:20230120T193000
DTEND;TZID=Europe/London:20230120T230000
DTSTAMP:20260424T110026
CREATED:20221219T153704Z
LAST-MODIFIED:20221219T213027Z
UID:3738-1674243000-1674255600@theoldchurchcentre.com
SUMMARY:The Rapparees
DESCRIPTION:https://www.ticketsource.co.uk/oldchurchcentre/t-lndyknv
URL:https://theoldchurchcentre.com/event/the-rapparees/
LOCATION:The Old Church Centre\, 1 Church Lane\, Cushendun\, BT44 0PS
ATTACH;FMTTYPE=image/jpeg:https://theoldchurchcentre.com/wp-content/uploads/2022/12/The-Rapparees-2.jpg
END:VEVENT
BEGIN:VEVENT
DTSTART;TZID=Europe/London:20230110T080000
DTEND;TZID=Europe/London:20230110T170000
DTSTAMP:20260424T110026
CREATED:20230110T121550Z
LAST-MODIFIED:20230110T121550Z
UID:3752-1673337600-1673370000@theoldchurchcentre.com
SUMMARY:Invisible
DESCRIPTION:https://www.ticketsource.co.uk/oldchurchcentre/t-dvkyaad \n  \nBook Launch with Clare McKay and friends. Music\, poetry and storytelling. Tea/coffee and nibbles provided.
URL:https://theoldchurchcentre.com/event/invisible/
END:VEVENT
BEGIN:VEVENT
DTSTART;TZID=Europe/London:20230107T133000
DTEND;TZID=Europe/London:20230107T153000
DTSTAMP:20260424T110026
CREATED:20221122T105834Z
LAST-MODIFIED:20230121T134101Z
UID:3689-1673098200-1673105400@theoldchurchcentre.com
SUMMARY:An Introduction to Researching Your Family Tree
DESCRIPTION:
URL:https://theoldchurchcentre.com/event/an-introduction-to-researching-your-family-tree/2023-01-07/
LOCATION:The Old Church Centre\, 1 Church Lane\, Cushendun\, BT44 0PS
CATEGORIES:Workshop
ATTACH;FMTTYPE=image/jpeg:https://theoldchurchcentre.com/wp-content/uploads/2022/11/Genealogy-Poster-.jpg
END:VEVENT
BEGIN:VEVENT
DTSTART;TZID=Europe/London:20230103T193000
DTEND;TZID=Europe/London:20230103T220000
DTSTAMP:20260424T110026
CREATED:20221213T140610Z
LAST-MODIFIED:20221213T140610Z
UID:3721-1672774200-1672783200@theoldchurchcentre.com
SUMMARY:Whist Evening
DESCRIPTION:
URL:https://theoldchurchcentre.com/event/whist-evening/
LOCATION:The Old Church Centre\, 1 Church Lane\, Cushendun\, BT44 0PS
ATTACH;FMTTYPE=image/jpeg:https://theoldchurchcentre.com/wp-content/uploads/2022/12/Your-paragraph-text-8.jpg
END:VEVENT
BEGIN:VEVENT
DTSTART;TZID=Europe/London:20221230T190000
DTEND;TZID=Europe/London:20221230T220000
DTSTAMP:20260424T110026
CREATED:20221112T193018Z
LAST-MODIFIED:20221108T190003Z
UID:3654-1672426800-1672437600@theoldchurchcentre.com
SUMMARY:FESTIVE MUSIC EVENING WITH KATRINA TURNER
DESCRIPTION:
URL:https://theoldchurchcentre.com/event/festive-music-evening-with-katrina-turner/
LOCATION:The Old Church Centre\, 1 Church Lane\, Cushendun\, BT44 0PS
ATTACH;FMTTYPE=image/jpeg:https://theoldchurchcentre.com/wp-content/uploads/2022/11/Festive-wine-and-cheese-evening-2.jpg
END:VEVENT
BEGIN:VEVENT
DTSTART;TZID=Europe/London:20221211T120000
DTEND;TZID=Europe/London:20221211T160000
DTSTAMP:20260424T110026
CREATED:20221108T122044Z
LAST-MODIFIED:20221108T170249Z
UID:3646-1670760000-1670774400@theoldchurchcentre.com
SUMMARY:Starlight & Stone Pop Up Shop
DESCRIPTION:
URL:https://theoldchurchcentre.com/event/starlight-stone-pop-up-shop/
LOCATION:The Old Church Centre\, 1 Church Lane\, Cushendun\, BT44 0PS
ATTACH;FMTTYPE=image/jpeg:https://theoldchurchcentre.com/wp-content/uploads/2022/11/Startlight-and-Stone-PopUp-shop-poster.jpg
END:VEVENT
BEGIN:VEVENT
DTSTART;TZID=Europe/London:20221210T120000
DTEND;TZID=Europe/London:20221210T160000
DTSTAMP:20260424T110026
CREATED:20221115T224356Z
LAST-MODIFIED:20221115T224356Z
UID:3666-1670673600-1670688000@theoldchurchcentre.com
SUMMARY:Bric a Brac - Children's Cancer Unit Charity
DESCRIPTION:
URL:https://theoldchurchcentre.com/event/bric-a-brac-childrens-cancer-unit-charity/
LOCATION:The Old Church Centre\, 1 Church Lane\, Cushendun\, BT44 0PS
CATEGORIES:Community
ATTACH;FMTTYPE=image/jpeg:https://theoldchurchcentre.com/wp-content/uploads/2022/11/Schoolkids-Christmas-Fair-Carnival-Poster-1.jpg
END:VEVENT
BEGIN:VEVENT
DTSTART;TZID=Europe/London:20221209T193000
DTEND;TZID=Europe/London:20221209T234500
DTSTAMP:20260424T110026
CREATED:20221129T114042Z
LAST-MODIFIED:20221208T161952Z
UID:3704-1670614200-1670629500@theoldchurchcentre.com
SUMMARY:Danderwild
DESCRIPTION:Joe Rocks\, Edelle McMahon and Benny Fyfe come to Cushendun to entertain with a variety of music. This is the debut gig for Edelle and Benny with Danderwild\, billowing\, and ethereal experimental songs with a folk rock thread.
URL:https://theoldchurchcentre.com/event/danderwild/
LOCATION:The Old Church Centre\, 1 Church Lane\, Cushendun\, BT44 0PS
ATTACH;FMTTYPE=application/pdf:https://theoldchurchcentre.com/wp-content/uploads/2022/11/Copy-of-Danderwild.pdf
END:VEVENT
BEGIN:VEVENT
DTSTART;TZID=Europe/London:20221209T130000
DTEND;TZID=Europe/London:20221209T150000
DTSTAMP:20260424T110026
CREATED:20221116T114758Z
LAST-MODIFIED:20221116T135125Z
UID:3669-1670590800-1670598000@theoldchurchcentre.com
SUMMARY:SOLD OUT
DESCRIPTION:
URL:https://theoldchurchcentre.com/event/3669/
ATTACH;FMTTYPE=image/jpeg:https://theoldchurchcentre.com/wp-content/uploads/2022/11/SOLD-OUT.jpg
END:VEVENT
BEGIN:VEVENT
DTSTART;VALUE=DATE:20221202
DTEND;VALUE=DATE:20221205
DTSTAMP:20260424T110026
CREATED:20220927T151842Z
LAST-MODIFIED:20221031T153617Z
UID:3550-1669939200-1670198399@theoldchurchcentre.com
SUMMARY:Cushendun Community Pantomime
DESCRIPTION:Christmas is coming and what better way to start the festivities than with everyone’s favourite pantomime\, Cinderella! You are invited to the Palace Ball. See the magic unfold as our Fairy Godmother waves her wand to bring a Happy Ever After for Cinderella and her Prince. \nClick here to book:
URL:https://theoldchurchcentre.com/event/cushendun-community-pantomime/
CATEGORIES:Community,Performance,Theatre
END:VEVENT
BEGIN:VEVENT
DTSTART;TZID=Europe/London:20221201T110000
DTEND;TZID=Europe/London:20221201T123000
DTSTAMP:20260424T110026
CREATED:20221122T120539Z
LAST-MODIFIED:20221122T120539Z
UID:3698-1669892400-1669897800@theoldchurchcentre.com
SUMMARY:Meditation
DESCRIPTION:
URL:https://theoldchurchcentre.com/event/meditation/
CATEGORIES:Private Hire
ATTACH;FMTTYPE=image/jpeg:https://theoldchurchcentre.com/wp-content/uploads/2022/11/Meditation-.jpg
END:VEVENT
BEGIN:VEVENT
DTSTART;TZID=Europe/London:20221126T110000
DTEND;TZID=Europe/London:20221126T160000
DTSTAMP:20260424T110026
CREATED:20221005T164057Z
LAST-MODIFIED:20221005T164058Z
UID:3578-1669460400-1669478400@theoldchurchcentre.com
SUMMARY:Craft and Trade Fair
DESCRIPTION:The next craft and trade fair will be on across two days in November. If you are interested in having a table\, get in touch with us on info@cushendunbpt.org \nOpen 11-4pm
URL:https://theoldchurchcentre.com/event/craft-and-trade-fair-3/2022-11-26/
LOCATION:The Old Church Centre\, 1 Church Lane\, Cushendun\, BT44 0PS
CATEGORIES:Arts and Crafts,Community
ATTACH;FMTTYPE=image/jpeg:https://theoldchurchcentre.com/wp-content/uploads/2022/10/Copy-of-Craft-and-Trade-Fair-Nov22-1.jpg
END:VEVENT
BEGIN:VEVENT
DTSTART;TZID=Europe/London:20221113T110000
DTEND;TZID=Europe/London:20221113T160000
DTSTAMP:20260424T110026
CREATED:20221110T164345Z
LAST-MODIFIED:20221110T164418Z
UID:3660-1668337200-1668355200@theoldchurchcentre.com
SUMMARY:Pop up tea room
DESCRIPTION:
URL:https://theoldchurchcentre.com/event/pop-up-tea-room/
ATTACH;FMTTYPE=image/png:https://theoldchurchcentre.com/wp-content/uploads/2022/11/POP-UP-TEA-ROOM-COREX.png
END:VEVENT
BEGIN:VEVENT
DTSTART;TZID=Europe/London:20221104T193000
DTEND;TZID=Europe/London:20221104T210000
DTSTAMP:20260424T110026
CREATED:20221026T103442Z
LAST-MODIFIED:20221026T104146Z
UID:3624-1667590200-1667595600@theoldchurchcentre.com
SUMMARY:Please Join us for the launch of Living off the Land & Sea
DESCRIPTION:This event marks the launch of a year long community\nproject led by CBPT to explore farming\, fishing and the many\nresourceful and skilful ways people have ‘Lived off the Land’\npast and present.\nOver the coming months we will be collecting reminiscences\,\nphotographs and local knowledge about fishing\, farming and other\naspects of our rural economy and we need your help. You don’t\nknow how how much you know until you share the knowledge.\nPlease join us on the evening of 4th November to find out more.\nThe Old Church Centre\, Cushendun\nFriday 4th November\nAll Welcome\n7.30 – 9pm Refreshments
URL:https://theoldchurchcentre.com/event/please-join-us-for-the-launch-of-living-off-the-land-sea/
LOCATION:The Old Church Centre\, 1 Church Lane\, Cushendun\, BT44 0PS
END:VEVENT
BEGIN:VEVENT
DTSTART;TZID=Europe/London:20221031T193000
DTEND;TZID=Europe/London:20221031T213000
DTSTAMP:20260424T110026
CREATED:20221005T173905Z
LAST-MODIFIED:20221005T173906Z
UID:3591-1667244600-1667251800@theoldchurchcentre.com
SUMMARY:Cushendun Community Cinema - Let the right one in
DESCRIPTION:On Halloween night we will have a horror movie special\, with the 2008 film Let the Right One In. \nWatch the trailer here if you want to see if you can handle the scare! \nClick here to book  \n 
URL:https://theoldchurchcentre.com/event/cushendun-community-cinema-let-the-right-one-in/
LOCATION:The Old Church Centre\, 1 Church Lane\, Cushendun\, BT44 0PS
CATEGORIES:Community Cinema
ATTACH;FMTTYPE=image/jpeg:https://theoldchurchcentre.com/wp-content/uploads/2022/10/lettherightonein.jpg
END:VEVENT
BEGIN:VEVENT
DTSTART;TZID=Europe/London:20221031T110000
DTEND;TZID=Europe/London:20221031T150000
DTSTAMP:20260424T110026
CREATED:20221005T181629Z
LAST-MODIFIED:20221005T181629Z
UID:3595-1667214000-1667228400@theoldchurchcentre.com
SUMMARY:Halloween Mask and Cloak Painting & Making Workshop
DESCRIPTION:Get ready for Halloween!\nDrop along to the Old Church Centre\, Cushendun on Monday 31 October any time between 11am-3pm for a Halloween mask and cloak painting and making workshop. Spooky sisters\, blood-thirsty brothers and creepy cousins all welcome. \nThis is a free event. \nSuitable for children 36 months and above. \nAll children must be accompanied \nAdvisory note\, please wear suitable clothes for a painting workshop. \n 
URL:https://theoldchurchcentre.com/event/halloween-mask-and-cloak-painting-making-workshop/
LOCATION:The Old Church Centre\, 1 Church Lane\, Cushendun\, BT44 0PS
CATEGORIES:Arts and Crafts,Community,Kids,Workshop
ATTACH;FMTTYPE=image/jpeg:https://theoldchurchcentre.com/wp-content/uploads/2022/10/halloween-workshop-picture.jpg
END:VEVENT
BEGIN:VEVENT
DTSTART;TZID=Europe/London:20221030T140000
DTEND;TZID=Europe/London:20221030T154500
DTSTAMP:20260424T110026
CREATED:20221005T170109Z
LAST-MODIFIED:20221005T174117Z
UID:3583-1667138400-1667144700@theoldchurchcentre.com
SUMMARY:Cushendun Community Cinema - Kids halloween movie
DESCRIPTION:The Addams Family\nCushendun Community Cinema present their Halloween special movie for kids! \nThe Addams Family (animation – 2019) will screen at 2pm on Sunday 30 October\, ghouls and boys are welcome to bring their own scary snacks! \nClick here to book 
URL:https://theoldchurchcentre.com/event/cushendun-community-cinema-halloween-movie/
LOCATION:The Old Church Centre\, 1 Church Lane\, Cushendun\, BT44 0PS
CATEGORIES:Community Cinema,Kids
ATTACH;FMTTYPE=image/jpeg:https://theoldchurchcentre.com/wp-content/uploads/2022/10/halloween-poster-22.jpg
END:VEVENT
BEGIN:VEVENT
DTSTART;TZID=Europe/London:20221029T100000
DTEND;TZID=Europe/London:20221029T120000
DTSTAMP:20260424T110026
CREATED:20221005T094822Z
LAST-MODIFIED:20221005T122808Z
UID:3571-1667037600-1667044800@theoldchurchcentre.com
SUMMARY:Cregagh wood and life in Glendun
DESCRIPTION:Causeway Coast and Glens Heritage Trust Event\nA walk through the wood and down memory lane on the formation of the wood and what life was like for the people who lived and worked in Glen \nJoin tour guide Jude of Turais Chois Abhann Doinne to discover the rich history and past lives of Cregagh Wood this Autumn. Jude will lead a walk around this magnificent deciduous forest to reveal it’s past through the heritage features remaining in and around the area. Approximate duration- 2 hours \nPlease note that Cregagh Wood is on a hillside and will require sturdy footwear and basic fitness to visit all the sites. \nMeeting point & parking- St. Patricks Church\, Glendun Road\, BT44 0PZ. \nWith support from: Community Foundation NI & Old Church Centre\, Cushendun \n\n\n\n\n\n\n\nClick here to book
URL:https://theoldchurchcentre.com/event/cregagh-wood-and-life-in-glendun/
CATEGORIES:Community
ATTACH;FMTTYPE=image/png:https://theoldchurchcentre.com/wp-content/uploads/2022/10/Cregagh-Wood-autumn-events-Oral-history-4-2.png
END:VEVENT
BEGIN:VEVENT
DTSTART;TZID=Europe/London:20221021T200000
DTEND;TZID=Europe/London:20221021T220000
DTSTAMP:20260424T110026
CREATED:20220906T123646Z
LAST-MODIFIED:20221005T172153Z
UID:3510-1666382400-1666389600@theoldchurchcentre.com
SUMMARY:An Evening of Stories & Songs
DESCRIPTION:The Glens of Antrim Storytelling Festival presents:\nFrom Glen to Glen: An evening of storytellling and music\n \nCome along to listen to tales and tunes from International Storyteller Jane Dorfman\, who will be joined by local tellers Liz Weir and Stephen O’Hara as well as talented musician Ciaran Mulholland. \n\n\nJane Dorfman is a storyteller from the Greater Washington DC area of the United States. Jane tells tales of dutiful daughters and wise women\, faithful sons and wicked kings\, of magic skipping ropes and Irish heroes\, of the angel Elijah and the fools of Chelm. She tells personal stories about her New Orleans childhood and her Maryland neighbours. She revels in stories from the Arabian Nights and tells a few lies as well. \nCiarán Mulholland  is a musician and singer-songwriter who lives close to Slemish Mountain. He has been playing the fiddle since he was 11 years old and is the regular fiddle player for Haste to the Wedding ceilidh band based in Larne and is also part of a new three piece band called Ceolta. \nLibraries NI’s Storyteller in Residence Liz Weir has been sharing her  tales for over 40 years and has built up an international reputation\, having been a featured teller at storytelling festivals around the world. As a former librarian\, she is passionate about getting people to preserve and share their own stories. \nStephen O’Hara is a retired English teacher who owned Ireland’s only Storytelling Cafe\, until the pandemic forced its closure. He tells tales from Irish folklore and mythology\, and takes a special interest in the lived experience of people in history\, and how their lives became woven into the oral storytelling tradition. \n\n\nhttps://www.armstory.org.uk/event-details/from-glen-to-glen-an-evening-of-storytellling-and-music
URL:https://theoldchurchcentre.com/event/an-evening-of-stories-songs/
LOCATION:The Old Church Centre\, 1 Church Lane\, Cushendun\, BT44 0PS
CATEGORIES:Community,Performance
ATTACH;FMTTYPE=image/jpeg:https://theoldchurchcentre.com/wp-content/uploads/2022/09/GSF-poster-scaled.jpg
END:VEVENT
BEGIN:VEVENT
DTSTART;TZID=Europe/London:20221011T123000
DTEND;TZID=Europe/London:20221011T143000
DTSTAMP:20260424T110026
CREATED:20220905T143403Z
LAST-MODIFIED:20221012T101145Z
UID:3508-1665491400-1665498600@theoldchurchcentre.com
SUMMARY:Tuesday Get Together
DESCRIPTION:Our monthly Tuesday Get Together returns. \nOn Tuesday 11 October\, we will have Tales and Tunes with Liz Weir. \nWe will have soup and sandwiches and everything will kick off at 1pm until 3pm.
URL:https://theoldchurchcentre.com/event/tuesday-get-together-2/
CATEGORIES:Community
ATTACH;FMTTYPE=image/jpeg:https://theoldchurchcentre.com/wp-content/uploads/2022/09/OVER-55S-GET-TOGETHERAUTUMN-1.jpg
END:VEVENT
BEGIN:VEVENT
DTSTART;TZID=Europe/London:20221008T100000
DTEND;TZID=Europe/London:20221008T130000
DTSTAMP:20260424T110026
CREATED:20221004T154635Z
LAST-MODIFIED:20221004T154635Z
UID:3566-1665223200-1665234000@theoldchurchcentre.com
SUMMARY:Natures Bounty Walk at Cregagh Wood
DESCRIPTION:Enjoy a gentle walk around the enchanted Cregagh Woods with Glenn White from Wild.Life\, to discover ‘nature’s bounty.’ \nJoin your ethnobotany guide Glenn White of Wild.Life in Cregagh Wood this Autumn. You will learn how to identify edible\, medicinal and other useful plants. We will discuss processing\, cooking\, preserving and the folklore of plants. Glenn’s knowledge is vast and will leave you looking at the world around you in a different light. \nPlease note that Cregagh Wood is on a hillside and will require sturdy footwear and basic fitness to visit all the sites. This event is for demonstration only and we ask that Cregagh Wood not be used for any plant picking in the future. \nMeeting point & parking- St. Patricks Church\, Glendun Road\, BT44 0PZ. \nWith support from: Community Foundation NI & Old Church Centre\, Cushendun \nEvent run by: Causeway Coast & Glens Heritage Trust \n\n\n\n\n\n\n\nDate and time\n\nSat\, 8 October 2022\, 10:00 – 13:00 BST\n\n\n\n\n\n\nLocation\n\nCregagh Wood 67 Glendun Road Cushendun BT44 0PZ
URL:https://theoldchurchcentre.com/event/natures-bounty-walk-at-cregagh-wood/
LOCATION:Cregagh Wood\, 67 Glendun Road\, Cushendun\, BT44 0PZ\, United Kingdom
CATEGORIES:Community
ATTACH;FMTTYPE=image/png:https://theoldchurchcentre.com/wp-content/uploads/2022/10/Cregagh-Natures-bounty-forest-walk-1.png
END:VEVENT
END:VCALENDAR