BEGIN:VCALENDAR
VERSION:2.0
PRODID:-//Old Church Centre - ECPv6.15.20//NONSGML v1.0//EN
CALSCALE:GREGORIAN
METHOD:PUBLISH
X-WR-CALNAME:Old Church Centre
X-ORIGINAL-URL:https://theoldchurchcentre.com
X-WR-CALDESC:Events for Old Church Centre
REFRESH-INTERVAL;VALUE=DURATION:PT1H
X-Robots-Tag:noindex
X-PUBLISHED-TTL:PT1H
BEGIN:VTIMEZONE
TZID:Europe/London
BEGIN:DAYLIGHT
TZOFFSETFROM:+0000
TZOFFSETTO:+0100
TZNAME:BST
DTSTART:20200329T010000
END:DAYLIGHT
BEGIN:STANDARD
TZOFFSETFROM:+0100
TZOFFSETTO:+0000
TZNAME:GMT
DTSTART:20201025T010000
END:STANDARD
BEGIN:DAYLIGHT
TZOFFSETFROM:+0000
TZOFFSETTO:+0100
TZNAME:BST
DTSTART:20210328T010000
END:DAYLIGHT
BEGIN:STANDARD
TZOFFSETFROM:+0100
TZOFFSETTO:+0000
TZNAME:GMT
DTSTART:20211031T010000
END:STANDARD
BEGIN:DAYLIGHT
TZOFFSETFROM:+0000
TZOFFSETTO:+0100
TZNAME:BST
DTSTART:20220327T010000
END:DAYLIGHT
BEGIN:STANDARD
TZOFFSETFROM:+0100
TZOFFSETTO:+0000
TZNAME:GMT
DTSTART:20221030T010000
END:STANDARD
BEGIN:DAYLIGHT
TZOFFSETFROM:+0000
TZOFFSETTO:+0100
TZNAME:BST
DTSTART:20230326T010000
END:DAYLIGHT
BEGIN:STANDARD
TZOFFSETFROM:+0100
TZOFFSETTO:+0000
TZNAME:GMT
DTSTART:20231029T010000
END:STANDARD
END:VTIMEZONE
BEGIN:VEVENT
DTSTART;TZID=Europe/London:20220215T100000
DTEND;TZID=Europe/London:20220215T110000
DTSTAMP:20260424T200957
CREATED:20220106T155024Z
LAST-MODIFIED:20220111T185650Z
UID:2652-1644919200-1644922800@theoldchurchcentre.com
SUMMARY:Tai Chi with Philip Johnston
DESCRIPTION:Please click here to book your place.
URL:https://theoldchurchcentre.com/event/tai-chi-with-philip-johnston-2-2022-02-15/
LOCATION:Cushendun
CATEGORIES:Class
END:VEVENT
BEGIN:VEVENT
DTSTART;TZID=Europe/London:20220213T140000
DTEND;TZID=Europe/London:20220213T210000
DTSTAMP:20260424T200957
CREATED:20220207T170237Z
LAST-MODIFIED:20220207T170659Z
UID:2823-1644760800-1644786000@theoldchurchcentre.com
SUMMARY:Cushendun Community Cinema
DESCRIPTION:The Cinema Club is back!\n  \nJoin us for some Sunday afternoon entertainment on 13 February\n2pm Kids Movie: Despicable Me (BYO snacks) \nBook here: https://www.ticketsource.co.uk/cushendunbpt/t-onajzv \n7.30pm Adults Movie: The Guard (BYOB) \nBook here: https://www.ticketsource.co.uk/cushendunbpt/t-qrgjgx
URL:https://theoldchurchcentre.com/event/cushendun-community-cinema/
LOCATION:Cushendun
CATEGORIES:Comedy,Community Cinema
ATTACH;FMTTYPE=image/jpeg:https://theoldchurchcentre.com/wp-content/uploads/2022/02/CUSHENDUN-COMMUNITY-CINEMA.jpg
END:VEVENT
BEGIN:VEVENT
DTSTART;TZID=Europe/London:20220208T100000
DTEND;TZID=Europe/London:20220208T110000
DTSTAMP:20260424T200957
CREATED:20220106T155023Z
LAST-MODIFIED:20220111T185605Z
UID:2651-1644314400-1644318000@theoldchurchcentre.com
SUMMARY:Tai Chi with Philip Johnston
DESCRIPTION:Please click here to book your place.
URL:https://theoldchurchcentre.com/event/tai-chi-with-philip-johnston-2-2022-02-08/
LOCATION:Cushendun
CATEGORIES:Class
END:VEVENT
BEGIN:VEVENT
DTSTART;TZID=Europe/London:20220205T110000
DTEND;TZID=Europe/London:20220205T160000
DTSTAMP:20260424T200957
CREATED:20220201T141241Z
LAST-MODIFIED:20220201T141241Z
UID:2806-1644058800-1644076800@theoldchurchcentre.com
SUMMARY:Imbolc/Brigid's Day Celebration
DESCRIPTION:Imbolc/Brigid’s Day Celebration\n\nJoin Folk & Flora to celebrate the ancient Celtic festival of Imbolc.\n\nSaturday 5th February 2022\n11am-4pm\n£60 \nImbolc\, later turned into St.Brigid’s Day or Candlemas\, is traditionally celebrated on February 1st-2nd and marks the start of spring in the Celtic calendar. It once belonged to the ancient Irish Goddess Brigid and we will learn about her whilst visiting a holy well before taking a walk in a stunning\, local\, native woodland\, where we will have a chance to welcome spring and practice grounding ourselves in the landscape before tucking into a delicious Ursa Minor packed lunch. \nWe will then make our way to Cushendun’s Old Church Centre for a Brigid’s Cross workshop whilst warming up with tea or coffee\, before a rejuvenating and restorative yoga practice. \nN.B The way into the woods is steep\, please ensure you have adequate footwear. \nLunch will be provided on the walk but please bring your own beverage. If you have any dietary or allergy requirements please message before the day. \n\nhttps://www.folkandflora.ie/shop/imblocbrigids-day-celebration
URL:https://theoldchurchcentre.com/event/imbolc-brigids-day-celebration/
LOCATION:Cushendun
CATEGORIES:Class,Private Hire
END:VEVENT
BEGIN:VEVENT
DTSTART;TZID=Europe/London:20220201T100000
DTEND;TZID=Europe/London:20220201T110000
DTSTAMP:20260424T200957
CREATED:20220106T155023Z
LAST-MODIFIED:20220111T185502Z
UID:2650-1643709600-1643713200@theoldchurchcentre.com
SUMMARY:Tai Chi with Philip Johnston
DESCRIPTION:Please click here to book your place: \nhttps://www.ticketsource.co.uk/cushendunbpt/t-jezxyg \n 
URL:https://theoldchurchcentre.com/event/tai-chi-with-philip-johnston-2-2022-02-01/
LOCATION:Cushendun
CATEGORIES:Class
END:VEVENT
BEGIN:VEVENT
DTSTART;TZID=Europe/London:20220128T100000
DTEND;TZID=Europe/London:20220128T110000
DTSTAMP:20260424T200957
CREATED:20220125T133559Z
LAST-MODIFIED:20220129T160538Z
UID:2781-1643364000-1643367600@theoldchurchcentre.com
SUMMARY:Mindful Chair Yoga
DESCRIPTION:Fiona Jones from Cloud Nine Yoga NI will be taking Mindful Chair Yoga in the Old Church Centre for six weeks.\n\n\nOrganised through the Cushendun District Development Association.\n\nBooking is essential and beginners are welcome.\n\nStarting on Friday 28 January at 10am and spaces are limited.\n\n\nContact Fiona directly to book on 07518 391883 or through Cloud Nine N.I. Yoga & Relaxation | Facebook
URL:https://theoldchurchcentre.com/event/mindful-chair-yoga/2022-01-28/
CATEGORIES:Class,Community,Private Hire
ATTACH;FMTTYPE=image/jpeg:https://theoldchurchcentre.com/wp-content/uploads/2022/01/chairyoga.jpg
END:VEVENT
BEGIN:VEVENT
DTSTART;TZID=Europe/London:20220125T100000
DTEND;TZID=Europe/London:20220125T110000
DTSTAMP:20260424T200957
CREATED:20220106T155023Z
LAST-MODIFIED:20220111T185417Z
UID:2649-1643104800-1643108400@theoldchurchcentre.com
SUMMARY:Tai Chi with Philip Johnston
DESCRIPTION:Please click here to book your place: \nhttps://www.ticketsource.co.uk/cushendunbpt/t-gnalov
URL:https://theoldchurchcentre.com/event/tai-chi-with-philip-johnston-2-2022-01-25/
LOCATION:Cushendun
CATEGORIES:Class
END:VEVENT
BEGIN:VEVENT
DTSTART;TZID=Europe/London:20220123T100000
DTEND;TZID=Europe/London:20220123T160000
DTSTAMP:20260424T200957
CREATED:20220119T101820Z
LAST-MODIFIED:20220119T101820Z
UID:2752-1642932000-1642953600@theoldchurchcentre.com
SUMMARY:Yoga ~ Swim ~ Manifest Workshop
DESCRIPTION:Amanda St John from A Created Life will host a Yoga/Swim/Manifest Workshop at the Old Church on Sunday 23 January.\n\nWhat a great way to start your 2022 \n\n\n\nBooking details can be found below.
URL:https://theoldchurchcentre.com/event/yoga-swim-manifest-workshop/
CATEGORIES:Community,Private Hire
ATTACH;FMTTYPE=image/jpeg:https://theoldchurchcentre.com/wp-content/uploads/2022/01/amandayoga1.jpg
END:VEVENT
BEGIN:VEVENT
DTSTART;TZID=Europe/London:20220120T194500
DTEND;TZID=Europe/London:20220120T204500
DTSTAMP:20260424T200957
CREATED:20220118T170249Z
LAST-MODIFIED:20220118T170249Z
UID:2712-1642707900-1642711500@theoldchurchcentre.com
SUMMARY:Tranquil Flow Yoga with Jackie - Mind Body & Soul Yoga
DESCRIPTION:For more details and to book\, please follow this link: https://bookwhen.com/mbsyoganorthernireland?tags=cushendun
URL:https://theoldchurchcentre.com/event/tranquil-flow-yoga-with-jackie-mind-body-soul-yoga-2/2022-01-20/
CATEGORIES:Class
END:VEVENT
BEGIN:VEVENT
DTSTART;TZID=Europe/London:20220120T183000
DTEND;TZID=Europe/London:20220120T193000
DTSTAMP:20260424T200957
CREATED:20220118T165744Z
LAST-MODIFIED:20220301T170143Z
UID:2687-1642703400-1642707000@theoldchurchcentre.com
SUMMARY:Tranquil Flow Yoga with Jackie - Mind Body & Soul Yoga
DESCRIPTION:For more details and to book\, please follow this link: https://bookwhen.com/mbsyoganorthernireland?tags=cushendun
URL:https://theoldchurchcentre.com/event/tranquil-flow-yoga-with-jackie-mind-body-soul-yoga/2022-01-20/
CATEGORIES:Class
END:VEVENT
BEGIN:VEVENT
DTSTART;TZID=Europe/London:20220120T091500
DTEND;TZID=Europe/London:20220120T110000
DTSTAMP:20260424T200957
CREATED:20220118T171408Z
LAST-MODIFIED:20220118T171408Z
UID:2736-1642670100-1642676400@theoldchurchcentre.com
SUMMARY:Glens Early Years Playtime
DESCRIPTION:Local parent and tots weekly meet up. \nChildren aged 0-4 with parents or carers are welcome to attend \nContact Glens Early Years Playtime on Facebook to sign up or contact: glensEYplaytime@gmail.com
URL:https://theoldchurchcentre.com/event/glens-early-years-playtime/
ATTACH;FMTTYPE=image/jpeg:https://theoldchurchcentre.com/wp-content/uploads/2022/01/children.jpg
END:VEVENT
BEGIN:VEVENT
DTSTART;TZID=Europe/London:20220119T103000
DTEND;TZID=Europe/London:20220119T123000
DTSTAMP:20260424T200957
CREATED:20220119T113859Z
LAST-MODIFIED:20220119T120226Z
UID:2755-1642588200-1642595400@theoldchurchcentre.com
SUMMARY:Art Classes
DESCRIPTION:*CURRENTLY FULLY BOOKED* \nCushendun District Development Group\nWeekly Art Classes hosted by Alastair McIlhatton. \nBooking Essential
URL:https://theoldchurchcentre.com/event/art-classes/2022-01-19/
CATEGORIES:Class,Private Hire
ATTACH;FMTTYPE=image/webp:https://theoldchurchcentre.com/wp-content/uploads/2022/01/paintbrushes.webp
END:VEVENT
BEGIN:VEVENT
DTSTART;TZID=Europe/London:20220118T100000
DTEND;TZID=Europe/London:20220118T110000
DTSTAMP:20260424T200957
CREATED:20220106T155023Z
LAST-MODIFIED:20220119T113937Z
UID:2648-1642500000-1642503600@theoldchurchcentre.com
SUMMARY:Tai Chi with Philip Johnston
DESCRIPTION:
URL:https://theoldchurchcentre.com/event/tai-chi-with-philip-johnston-2-2022-01-18/
LOCATION:Cushendun
CATEGORIES:Class
ATTACH;FMTTYPE=image/jpeg:https://theoldchurchcentre.com/wp-content/uploads/2021/11/Tai-Chi-Poster.jpg
END:VEVENT
BEGIN:VEVENT
DTSTART;TZID=Europe/London:20220111T100000
DTEND;TZID=Europe/London:20220111T110000
DTSTAMP:20260424T200957
CREATED:20220106T155023Z
LAST-MODIFIED:20220130T154620Z
UID:2645-1641895200-1641898800@theoldchurchcentre.com
SUMMARY:Tai Chi with Philip Johnston
DESCRIPTION:
URL:https://theoldchurchcentre.com/event/tai-chi-with-philip-johnston-2/2022-01-11/
LOCATION:Cushendun
CATEGORIES:Class
ATTACH;FMTTYPE=image/jpeg:https://theoldchurchcentre.com/wp-content/uploads/2021/11/Tai-Chi-Poster.jpg
END:VEVENT
BEGIN:VEVENT
DTSTART;TZID=Europe/London:20211214T100000
DTEND;TZID=Europe/London:20211214T110000
DTSTAMP:20260424T200957
CREATED:20211201T110337Z
LAST-MODIFIED:20211201T110337Z
UID:2623-1639476000-1639479600@theoldchurchcentre.com
SUMMARY:Tai Chi with Philip Johnston
DESCRIPTION:Please click here to be redirected to our ticketing system.
URL:https://theoldchurchcentre.com/event/tai-chi-with-philip-johnston/
CATEGORIES:Class
ATTACH;FMTTYPE=image/jpeg:https://theoldchurchcentre.com/wp-content/uploads/2021/11/Tai-Chi-Poster.jpg
END:VEVENT
BEGIN:VEVENT
DTSTART;TZID=Europe/London:20211211T200000
DTEND;TZID=Europe/London:20211211T230000
DTSTAMP:20260424T200957
CREATED:20211102T201136Z
LAST-MODIFIED:20211124T125259Z
UID:2418-1639252800-1639263600@theoldchurchcentre.com
SUMMARY:Murder Mystery Evening
DESCRIPTION:Who Sleighed Santa? \nSanta and Mrs Claus invite you to a party to celebrate the launch of Santa’s Christmas Shake-Up. \nBig changes are afoot\, heads will roll\, you could cut the atmosphere with a knife … \nWho will be sacked? \nWhose baubles are on the line? \nChristmas will never be the same again for the good folk at the North Pole. \n  \nbring a bottle….you”ll need it! \n  \nBook here
URL:https://theoldchurchcentre.com/event/murder-mystery-evening/
CATEGORIES:Performance
ATTACH;FMTTYPE=image/jpeg:https://theoldchurchcentre.com/wp-content/uploads/2021/11/251993246_2130933313722476_188132020638065548_n.jpg
END:VEVENT
BEGIN:VEVENT
DTSTART;TZID=Europe/London:20211207T100000
DTEND;TZID=Europe/London:20211207T110000
DTSTAMP:20260424T200957
CREATED:20211102T203304Z
LAST-MODIFIED:20211129T113438Z
UID:2439-1638871200-1638874800@theoldchurchcentre.com
SUMMARY:Tai Chi with Philip
DESCRIPTION:£5 Online \n£7 in person \nTo book\, please click here
URL:https://theoldchurchcentre.com/event/tai-chi-with-philip-2021-12-07/
CATEGORIES:Class
ATTACH;FMTTYPE=image/jpeg:https://theoldchurchcentre.com/wp-content/uploads/2021/11/Tai-Chi-Poster.jpg
END:VEVENT
BEGIN:VEVENT
DTSTART;TZID=Europe/London:20211205T190000
DTEND;TZID=Europe/London:20211205T203000
DTSTAMP:20260424T200957
CREATED:20211127T141402Z
LAST-MODIFIED:20211127T141443Z
UID:2617-1638730800-1638736200@theoldchurchcentre.com
SUMMARY:The Game: The Story of Hurling
DESCRIPTION:Filmed over two years\, THE GAME is a ground-breaking documentary series celebrating Ireland’s blistering national sport. \nPlease click here to be redirected to our ticketing system.
URL:https://theoldchurchcentre.com/event/the-game-the-story-of-hurling/
CATEGORIES:Community Cinema
ATTACH;FMTTYPE=image/jpeg:https://theoldchurchcentre.com/wp-content/uploads/2021/11/the-game.jpg
END:VEVENT
BEGIN:VEVENT
DTSTART;TZID=Europe/London:20211205T140000
DTEND;TZID=Europe/London:20211205T154500
DTSTAMP:20260424T200957
CREATED:20211127T135210Z
LAST-MODIFIED:20211127T135332Z
UID:2613-1638712800-1638719100@theoldchurchcentre.com
SUMMARY:Paddington 2 (Cushendun Community Cinema)
DESCRIPTION:Paddington\, now happily settled with the Brown family and a popular member of the local community picks up a series of odd jobs to buy the perfect present for his Aunt Lucy’s 100th birthday\, only for the gift to be stolen. \nPlease book online using our online ticketing system by clicking here.
URL:https://theoldchurchcentre.com/event/paddington-2-cushendun-community-cinema/
LOCATION:Cushendun
CATEGORIES:Community Cinema
ATTACH;FMTTYPE=image/jpeg:https://theoldchurchcentre.com/wp-content/uploads/2021/11/Paddington2.jpg
END:VEVENT
BEGIN:VEVENT
DTSTART;TZID=Europe/London:20211130T100000
DTEND;TZID=Europe/London:20211130T110000
DTSTAMP:20260424T200957
CREATED:20211102T203304Z
LAST-MODIFIED:20211129T113404Z
UID:2438-1638266400-1638270000@theoldchurchcentre.com
SUMMARY:Tai Chi with Philip
DESCRIPTION:£5 Online \n£7 in person \nTo book\, please click here
URL:https://theoldchurchcentre.com/event/tai-chi-with-philip-2021-11-30/
CATEGORIES:Class
ATTACH;FMTTYPE=image/jpeg:https://theoldchurchcentre.com/wp-content/uploads/2021/11/Tai-Chi-Poster.jpg
END:VEVENT
BEGIN:VEVENT
DTSTART;TZID=Europe/London:20211127T110000
DTEND;TZID=Europe/London:20211127T160000
DTSTAMP:20260424T200957
CREATED:20211108T165231Z
LAST-MODIFIED:20211108T165408Z
UID:2492-1638010800-1638028800@theoldchurchcentre.com
SUMMARY:Craft and Trade Fair
DESCRIPTION:
URL:https://theoldchurchcentre.com/event/craft-and-trade-fair/2021-11-27/
ATTACH;FMTTYPE=image/jpeg:https://theoldchurchcentre.com/wp-content/uploads/2021/11/Copy-of-Original-size-Original-size-Original-size-Craft-Fair-June-2021.jpg
END:VEVENT
BEGIN:VEVENT
DTSTART;TZID=Europe/London:20211110T190000
DTEND;TZID=Europe/London:20211110T200000
DTSTAMP:20260424T200957
CREATED:20211108T164929Z
LAST-MODIFIED:20211108T164929Z
UID:2485-1636570800-1636574400@theoldchurchcentre.com
SUMMARY:Cushendun Reading Circle
DESCRIPTION:Contact Fiona Lynch 07743 033762 / 028 2176 1461 for details and to join the group.
URL:https://theoldchurchcentre.com/event/cushendun-reading-circle/2021-11-10/
END:VEVENT
BEGIN:VEVENT
DTSTART;TZID=Europe/London:20211110T103000
DTEND;TZID=Europe/London:20211110T123000
DTSTAMP:20260424T200957
CREATED:20211105T123810Z
LAST-MODIFIED:20211108T165047Z
UID:2460-1636540200-1636547400@theoldchurchcentre.com
SUMMARY:Private Hire
DESCRIPTION:CDDA Art Class
URL:https://theoldchurchcentre.com/event/private-hire-cdda-art-class/
END:VEVENT
BEGIN:VEVENT
DTSTART;TZID=Europe/London:20211109T100000
DTEND;TZID=Europe/London:20211109T110000
DTSTAMP:20260424T200957
CREATED:20211102T203304Z
LAST-MODIFIED:20211108T164122Z
UID:2434-1636452000-1636455600@theoldchurchcentre.com
SUMMARY:Tai Chi with Philip
DESCRIPTION:£5 Online \n£7 in person \nTo book\, please click here
URL:https://theoldchurchcentre.com/event/tai-chi-with-philip/2021-11-09/
CATEGORIES:Class
ATTACH;FMTTYPE=image/jpeg:https://theoldchurchcentre.com/wp-content/uploads/2021/11/Tai-Chi-Poster.jpg
END:VEVENT
BEGIN:VEVENT
DTSTART;TZID=Europe/London:20211107T160000
DTEND;TZID=Europe/London:20211107T180000
DTSTAMP:20260424T200957
CREATED:20211102T203926Z
LAST-MODIFIED:20211105T124040Z
UID:2444-1636300800-1636308000@theoldchurchcentre.com
SUMMARY:Cushendun Building Preservation Trust - Annual General Meeting
DESCRIPTION:
URL:https://theoldchurchcentre.com/event/private-hire/
CATEGORIES:Private Hire
END:VEVENT
END:VCALENDAR