BEGIN:VCALENDAR
VERSION:2.0
PRODID:-//Old Church Centre - ECPv6.15.20//NONSGML v1.0//EN
CALSCALE:GREGORIAN
METHOD:PUBLISH
X-ORIGINAL-URL:https://theoldchurchcentre.com
X-WR-CALDESC:Events for Old Church Centre
REFRESH-INTERVAL;VALUE=DURATION:PT1H
X-Robots-Tag:noindex
X-PUBLISHED-TTL:PT1H
BEGIN:VTIMEZONE
TZID:Europe/London
BEGIN:DAYLIGHT
TZOFFSETFROM:+0000
TZOFFSETTO:+0100
TZNAME:BST
DTSTART:20210328T010000
END:DAYLIGHT
BEGIN:STANDARD
TZOFFSETFROM:+0100
TZOFFSETTO:+0000
TZNAME:GMT
DTSTART:20211031T010000
END:STANDARD
BEGIN:DAYLIGHT
TZOFFSETFROM:+0000
TZOFFSETTO:+0100
TZNAME:BST
DTSTART:20220327T010000
END:DAYLIGHT
BEGIN:STANDARD
TZOFFSETFROM:+0100
TZOFFSETTO:+0000
TZNAME:GMT
DTSTART:20221030T010000
END:STANDARD
BEGIN:DAYLIGHT
TZOFFSETFROM:+0000
TZOFFSETTO:+0100
TZNAME:BST
DTSTART:20230326T010000
END:DAYLIGHT
BEGIN:STANDARD
TZOFFSETFROM:+0100
TZOFFSETTO:+0000
TZNAME:GMT
DTSTART:20231029T010000
END:STANDARD
END:VTIMEZONE
BEGIN:VEVENT
DTSTART;TZID=Europe/London:20220718T093000
DTEND;TZID=Europe/London:20220718T130000
DTSTAMP:20260424T193155
CREATED:20220627T161546Z
LAST-MODIFIED:20220706T184028Z
UID:3330-1658136600-1658149200@theoldchurchcentre.com
SUMMARY:Summer Fun in Cushendun
DESCRIPTION:5 days of workshops for kids to keep them entertained during the long summer! \nMonday: Beach Arts and Crafts. Suitable for 7-11 year olds. 9.30am- 1pm. \nTuesday: Sing and Dance Along Fun. Suitable for 7-11 year olds. 9.30am – 1pm. \nWednesday: Maidin Ghaeilge with Deirdre. Suitable for 4-11 year olds. 9.30am-1pm. \nThursday: Buzzy Wee Bees Arts and Crafts workshop. Suitable for 4-7 year olds. 9.30am – 12.30pm. \nFriday: Musical Wings\, first session\, suitable for 0-12 months @ 2pm & second session suitable for 1-3 year olds @ 3pm \nSpaces are limited so please book ahead here: www.ticketsource.co.uk/cushendunbpt \nFor the Monday – Thursday workshops\, please bring a packed lunch\, coats\, and make sure to wear comfortable clothing. \n 
URL:https://theoldchurchcentre.com/event/summer-fun-in-cushendun/2022-07-18/
LOCATION:The Old Church Centre\, 1 Church Lane\, Cushendun\, BT44 0PS
CATEGORIES:Community,Kids
ATTACH;FMTTYPE=image/png:https://theoldchurchcentre.com/wp-content/uploads/2022/06/Summer-fun-in-Cushendun1-1.png
END:VEVENT
END:VCALENDAR