BEGIN:VCALENDAR
VERSION:2.0
PRODID:-//Old Church Centre - ECPv6.15.20//NONSGML v1.0//EN
CALSCALE:GREGORIAN
METHOD:PUBLISH
X-ORIGINAL-URL:https://theoldchurchcentre.com
X-WR-CALDESC:Events for Old Church Centre
REFRESH-INTERVAL;VALUE=DURATION:PT1H
X-Robots-Tag:noindex
X-PUBLISHED-TTL:PT1H
BEGIN:VTIMEZONE
TZID:Europe/London
BEGIN:DAYLIGHT
TZOFFSETFROM:+0000
TZOFFSETTO:+0100
TZNAME:BST
DTSTART:20200329T010000
END:DAYLIGHT
BEGIN:STANDARD
TZOFFSETFROM:+0100
TZOFFSETTO:+0000
TZNAME:GMT
DTSTART:20201025T010000
END:STANDARD
BEGIN:DAYLIGHT
TZOFFSETFROM:+0000
TZOFFSETTO:+0100
TZNAME:BST
DTSTART:20210328T010000
END:DAYLIGHT
BEGIN:STANDARD
TZOFFSETFROM:+0100
TZOFFSETTO:+0000
TZNAME:GMT
DTSTART:20211031T010000
END:STANDARD
BEGIN:DAYLIGHT
TZOFFSETFROM:+0000
TZOFFSETTO:+0100
TZNAME:BST
DTSTART:20220327T010000
END:DAYLIGHT
BEGIN:STANDARD
TZOFFSETFROM:+0100
TZOFFSETTO:+0000
TZNAME:GMT
DTSTART:20221030T010000
END:STANDARD
BEGIN:DAYLIGHT
TZOFFSETFROM:+0000
TZOFFSETTO:+0100
TZNAME:BST
DTSTART:20230326T010000
END:DAYLIGHT
BEGIN:STANDARD
TZOFFSETFROM:+0100
TZOFFSETTO:+0000
TZNAME:GMT
DTSTART:20231029T010000
END:STANDARD
BEGIN:DAYLIGHT
TZOFFSETFROM:+0000
TZOFFSETTO:+0100
TZNAME:BST
DTSTART:20240331T010000
END:DAYLIGHT
BEGIN:STANDARD
TZOFFSETFROM:+0100
TZOFFSETTO:+0000
TZNAME:GMT
DTSTART:20241027T010000
END:STANDARD
END:VTIMEZONE
BEGIN:VEVENT
DTSTART;TZID=Europe/London:20230430T160000
DTEND;TZID=Europe/London:20230430T160000
DTSTAMP:20260423T174015
CREATED:20230404T145335Z
LAST-MODIFIED:20230404T163000Z
UID:243169-1682870400-1682870400@theoldchurchcentre.com
SUMMARY:Sandcastle Competition
DESCRIPTION:The annual sandcastle competition returns bigger and better than ever\, all ages are welcome! \nMeet on the Warren opposite the Glenmona car park. \nFREE
URL:https://theoldchurchcentre.com/event/sandcastle-competition/
LOCATION:Cushendun
CATEGORIES:Big Arts Weekend
ATTACH;FMTTYPE=image/jpeg:https://theoldchurchcentre.com/wp-content/uploads/2021/03/sand.jpg
END:VEVENT
BEGIN:VEVENT
DTSTART;VALUE=DATE:20230428
DTEND;VALUE=DATE:20230429
DTSTAMP:20260423T174015
CREATED:20230316T170422Z
LAST-MODIFIED:20230404T161338Z
UID:242812-1682640000-1682726399@theoldchurchcentre.com
SUMMARY:Big Arts Weekend 2023
DESCRIPTION:It’s back! \nJoin us for the 10th anniversary of the Big Arts Weekend. \n28 April to 1 May 2023 \nBrowse the full daily programme here
URL:https://theoldchurchcentre.com/event/big-arts-weekend-2023/2023-04-28/
LOCATION:Cushendun
ATTACH;FMTTYPE=image/jpeg:https://theoldchurchcentre.com/wp-content/uploads/2023/03/Untitled-design-1.jpg
END:VEVENT
BEGIN:VEVENT
DTSTART;VALUE=DATE:20220501
DTEND;VALUE=DATE:20220502
DTSTAMP:20260423T174015
CREATED:20220405T145301Z
LAST-MODIFIED:20230404T083726Z
UID:3174-1651363200-1651449599@theoldchurchcentre.com
SUMMARY:Family Fun Day
DESCRIPTION:Big Arts Family Fun Day\n  \nThere are lots of fun and free to attend activities throughout Sunday\, just come along and take part! \n11am: Join the Glens Red Squirrel Group for lots of fun wildlife activities for the family to take part in and discover what local wildlife we have in Cushendun. \n1pm: Doggie’s Got Talent – a dog show with a difference! Crazy Obstacle Course\, Fancy Dress Competition\, Find-the-Treat Race. Just come along and join in the fun! \n2pm: Circusful’s Mermaid Belleweather is washed ashore to delight and entertain all the family. \n3 – 4.30pm Makendoo Workshop. Kids’ drop-in painting workshop making Pirate Hats\, Masks\, Mermaids and Sea Creatures. Suitable for children 4+ Children must be accompanied. \n4-5 pm: Sandcastle Competition\, Cushendun Beach
URL:https://theoldchurchcentre.com/event/family-fun-day/
LOCATION:Cushendun
CATEGORIES:BAW_past
ATTACH;FMTTYPE=image/jpeg:https://theoldchurchcentre.com/wp-content/uploads/2022/03/IMG_2260-1.jpeg
END:VEVENT
BEGIN:VEVENT
DTSTART;VALUE=DATE:20220429
DTEND;VALUE=DATE:20220503
DTSTAMP:20260423T174015
CREATED:20220125T105234Z
LAST-MODIFIED:20220329T110334Z
UID:2778-1651190400-1651535999@theoldchurchcentre.com
SUMMARY:Big Arts Weekend
DESCRIPTION:We are excited to be bringing the Big Arts Weekend back to Cushendun with a bang in 2022. \nBig Arts Weekend \n \n 
URL:https://theoldchurchcentre.com/event/big-arts-weekend/
LOCATION:Cushendun
CATEGORIES:Community
ATTACH;FMTTYPE=image/jpeg:https://theoldchurchcentre.com/wp-content/uploads/2022/01/IMG_3184-scaled.jpg
END:VEVENT
BEGIN:VEVENT
DTSTART;TZID=Europe/London:20220424T140000
DTEND;TZID=Europe/London:20220424T210000
DTSTAMP:20260423T174015
CREATED:20220207T171128Z
LAST-MODIFIED:20220417T094908Z
UID:2834-1650808800-1650834000@theoldchurchcentre.com
SUMMARY:Cushendun Community Cinema
DESCRIPTION:The Cinema Club is back!\nJoin us for some Sunday afternoon entertainment on 24 April\n2pm Kids Movie: Despicable Me 3 (BYO snacks) \n7.30pm Adults Movie: Babette’s Feast (BYOB) \nTicket details to follow
URL:https://theoldchurchcentre.com/event/cushendun-community-cinema-3/
LOCATION:Cushendun
CATEGORIES:Comedy,Community Cinema
END:VEVENT
BEGIN:VEVENT
DTSTART;TZID=Europe/London:20220410T110000
DTEND;TZID=Europe/London:20220410T160000
DTSTAMP:20260423T174015
CREATED:20220209T124225Z
LAST-MODIFIED:20220209T124925Z
UID:2849-1649588400-1649606400@theoldchurchcentre.com
SUMMARY:Pop Up Tea Shop
DESCRIPTION:New monthly pop up tea shop\nDrop in to the Old Church Centre on Sunday for a hot cuppa\, some tasty treats and a bit of chat. \nOpen 11am-4pm \n 
URL:https://theoldchurchcentre.com/event/pop-up-tea-shop/
LOCATION:Cushendun
CATEGORIES:Community
ATTACH;FMTTYPE=image/jpeg:https://theoldchurchcentre.com/wp-content/uploads/2022/02/Pop-Up-Tea-Shop-Apr-2022-1.jpg
END:VEVENT
BEGIN:VEVENT
DTSTART;TZID=Europe/London:20220329T190000
DTEND;TZID=Europe/London:20220329T203000
DTSTAMP:20260423T174015
CREATED:20220316T124919Z
LAST-MODIFIED:20220316T124919Z
UID:2912-1648580400-1648585800@theoldchurchcentre.com
SUMMARY:Reflections on Refugees: Communicating through Art
DESCRIPTION:Reflections on Refugees: Communicating through Art \n Tuesday 29 March\, 7pm\, Old Church Centre\, Cushendun  \nThe Old Church Centre\, Cushendun will host an evening of discussion and reflection on the current refugee crisis with local artist Raymond Watson and Conflict Textiles curator Roberta Bacic on Tuesday 29 March at 7pm. \nThe evening will put a spotlight on the plight of refugees both at home and abroad. Following the Russian invasion into the Ukraine\, the experience of refugees – and a willingness to offer practical supports – is at the forefront of people’s minds across Europe and beyond. \nDrawing on his recent experience\, Raymond Watson reflects on his involvement working with migrants in Caulonia\, southern Italy in 2021. In collaboration with a group of young adult refugees\, they created paintings inspired by Picasso’s world-renowned painting ‘Guernica’ and are now included in the international children’s peace mural project ‘Kids Guernica’\, which has been running for many years and has been implemented in more than 45 international venues. \nIn partnership with the Good Relations team at Causeway Coast and Glens\, curator Roberta Bacic has been invited to share her insight on working with refugees in Northern Ireland and share the Conflict Textiles collection with our rural community in the Glens. \nConflict Textiles is home to a large collection of international textiles (380)\, exhibitions and associated events\, focused on elements of conflict and human rights abuses. The collection is mainly comprised of arpilleras\, quilts and wall hangings. Arpilleras – three-dimensional appliquéd tapestries of Chilean origin – became the medium for women to denounce the human rights abuses of the Pinochet dictatorship in Chile (1973-1990).  Since 2008\, these textiles have been exhibited in a variety of venues both in Northern Ireland and worldwide\, seeding many new partnerships in the process. It is a privilege for the Old Church Centre to be able to exhibit a curated selection of the textiles for this event and to welcome Roberta to Cushendun to share her insights of her experience. \nThere will be contributions from both Raymond and Roberta\, an exhibition and post-discussion Q&A on Tuesday 29 March. Admission is free but booking advised. In lieu of admission charge\, we would welcome donations to the Disasters Emergency Committee Ukraine appeal. Donations can be made online or in person at the event. \nThe Conflict Textile exhibition will then be displayed in the Old Church Centre between 29 March until 3 May. It concludes at the Cushendun Big Arts Weekend where Roberta will host a workshop engaging the local community in the creation and story of the Conflict Textiles. \nBook here: https://www.ticketsource.co.uk/cushendunbpt/t-dyeovx  \nFor more information contact maeve@theoldchurchcentre.com \n  \n  \n  \n  \n  \n 
URL:https://theoldchurchcentre.com/event/reflections-on-refugees-communicating-through-art/
LOCATION:Cushendun
CATEGORIES:Community,Exhibition,Talk
ATTACH;FMTTYPE=application/pdf:https://theoldchurchcentre.com/wp-content/uploads/2022/03/REFLECTIONS-ON-REFUGEES-POSTER-FINAL.pdf
END:VEVENT
BEGIN:VEVENT
DTSTART;TZID=Europe/London:20220322T200000
DTEND;TZID=Europe/London:20220322T210000
DTSTAMP:20260423T174015
CREATED:20220130T154438Z
LAST-MODIFIED:20220214T142839Z
UID:2797-1647979200-1647982800@theoldchurchcentre.com
SUMMARY:Kabosh Theatre Company
DESCRIPTION:Kabosh Theatre Company bring their theatrical production of Before You Go to Cushendun’s Old Church Centre.\nBefore You Go is a new play from Laurence McKeown looking at loss\, love and living.  \nSorcha O’Hagan is leaving for Australia. Her bags are packed. Only an overdue conversation with her father remains. Before she goes.  \nSorcha’s mother died when she was only 18 months old.  She was raised by her father Brendan and his family.  They had a strong relationship\, but his regular absenteeism was never talked about.  As the sun rises on the border\, the clock is ticking\, and things need to be said.    \nAn absolute inspirational and emotional rollercoaster played perfectly by 3 amazing actors.  \nTickets: £12/£10 concession. Follow link below to purchase
URL:https://theoldchurchcentre.com/event/kabosh-theatre-company/
LOCATION:Cushendun
CATEGORIES:Performance
ATTACH;FMTTYPE=image/jpeg:https://theoldchurchcentre.com/wp-content/uploads/2022/01/Before-you-go.jpg
END:VEVENT
BEGIN:VEVENT
DTSTART;TZID=Europe/London:20220317T100000
DTEND;TZID=Europe/London:20220317T160000
DTSTAMP:20260423T174015
CREATED:20220301T191857Z
LAST-MODIFIED:20220301T191857Z
UID:2899-1647511200-1647532800@theoldchurchcentre.com
SUMMARY:St. Patrick's Day Festival
DESCRIPTION:This year we are delighted to be hosting a St. Patrick’s Day festival with fun for all the family. With evening entertainment on Wednesday 16 March and children’s activities on Thursday 17 March\, there is something for everyone. Booking advised. \nWednesday 16 March \n7pm Pop up Gaeltacht \n8.30pm Singers night \nThursday 17 March  \n10am Baby Club with a twist \n2pm Paint & Palaver with Miss Poppy \nBooking details below
URL:https://theoldchurchcentre.com/event/st-patricks-day-festival-2/
LOCATION:Cushendun
CATEGORIES:Arts and Crafts,Class,Community,Kids
ATTACH;FMTTYPE=image/png:https://theoldchurchcentre.com/wp-content/uploads/2022/03/1.png
END:VEVENT
BEGIN:VEVENT
DTSTART;TZID=Europe/London:20220316T190000
DTEND;TZID=Europe/London:20220316T220000
DTSTAMP:20260423T174015
CREATED:20220301T165958Z
LAST-MODIFIED:20220301T191546Z
UID:2880-1647457200-1647468000@theoldchurchcentre.com
SUMMARY:St Patrick's Day Festival
DESCRIPTION:This year we are delighted to be hosting a St. Patrick’s Day festival with fun for all the family. With evening entertainment on Wednesday 16 March and children’s activities on Thursday 17 March\, there is something for everyone. Booking advised. \nWednesday 16 March \n7pm Pop up Gaeltacht \n8.30pm Singers night \nThursday 17 March  \n10am Baby Club with a twist \n2pm Paint & Palaver with Miss Poppy \nBooking details below \n \n  \n 
URL:https://theoldchurchcentre.com/event/st-patricks-day-festival/
LOCATION:Cushendun
CATEGORIES:Arts and Crafts,Community,Kids
ATTACH;FMTTYPE=application/pdf:https://theoldchurchcentre.com/wp-content/uploads/2022/03/st.-patricks-day-Festival-2.pdf
END:VEVENT
BEGIN:VEVENT
DTSTART;TZID=Europe/London:20220312T110000
DTEND;TZID=Europe/London:20220312T160000
DTSTAMP:20260423T174015
CREATED:20220209T095745Z
LAST-MODIFIED:20220209T095902Z
UID:2844-1647082800-1647100800@theoldchurchcentre.com
SUMMARY:Craft and Trade Fair
DESCRIPTION:Quarterly Craft and Trade Fair returns\nSaturday 12 & Sunday 13 March\, 11am-4pm \nGet in touch if you would like to book a table \n 
URL:https://theoldchurchcentre.com/event/craft-and-trade-fair-2/2022-03-12/
LOCATION:Cushendun
CATEGORIES:Arts and Crafts,Community
ATTACH;FMTTYPE=image/jpeg:https://theoldchurchcentre.com/wp-content/uploads/2022/02/Craft-and-Trade-Fair-March-2022-1.jpg
END:VEVENT
BEGIN:VEVENT
DTSTART;TZID=Europe/London:20220308T140000
DTEND;TZID=Europe/London:20220308T160000
DTSTAMP:20260423T174015
CREATED:20220215T152447Z
LAST-MODIFIED:20220215T152447Z
UID:2867-1646748000-1646755200@theoldchurchcentre.com
SUMMARY:Tuesday Get Togethers
DESCRIPTION:New Monthly Golden Social Club\nCome along to the Old Church Centre\, Cushendun\, every 2nd Tuesday of the month from 2-4 pm\, for free refreshments\, good company\, useful information and fun. \n8 March – Meet up with friends and enjoy some great music from Tony Swail. \n12 April – Northern Health & Social Care Trust will be along to offer advice on Dementia Awareness. \n10th May – Feargal Lynn is going to be calling Bingo.
URL:https://theoldchurchcentre.com/event/tuesday-get-togethers/2022-03-08/
LOCATION:Cushendun
CATEGORIES:Community
ATTACH;FMTTYPE=image/png:https://theoldchurchcentre.com/wp-content/uploads/2022/02/OVER-55S-GET-TOGETHER.png
END:VEVENT
BEGIN:VEVENT
DTSTART;TZID=Europe/London:20220306T140000
DTEND;TZID=Europe/London:20220306T210000
DTSTAMP:20260423T174015
CREATED:20220207T170930Z
LAST-MODIFIED:20220228T163853Z
UID:2831-1646575200-1646600400@theoldchurchcentre.com
SUMMARY:Cushendun Community Cinema
DESCRIPTION:The Cinema Club is back!\nJoin us for some Sunday afternoon entertainment on 6 March\n2pm Kids Movie: Despicable Me 2 (BYO snacks) \nBook here: https://www.ticketsource.co.uk/cushendunbpt/t-gnojmo \n7.30pm Adults Movie: Intermission (BYOB) \nBook here: https://www.ticketsource.co.uk/cushendunbpt/t-lygerj \n 
URL:https://theoldchurchcentre.com/event/cushendun-community-cinema-2/
LOCATION:Cushendun
CATEGORIES:Comedy,Community Cinema
ATTACH;FMTTYPE=image/jpeg:https://theoldchurchcentre.com/wp-content/uploads/2022/02/2.jpg
END:VEVENT
BEGIN:VEVENT
DTSTART;TZID=Europe/London:20220226T200000
DTEND;TZID=Europe/London:20220226T210000
DTSTAMP:20260423T174015
CREATED:20220204T132111Z
LAST-MODIFIED:20220205T120752Z
UID:2812-1645905600-1645909200@theoldchurchcentre.com
SUMMARY:Patrick Kielty – Borderline
DESCRIPTION:David Hull Promotions Presents:  \nPatrick Kielty – Borderline\nBrand new stand up from County Down’s finest as he returns to his satirical roots with his first live tour in five years. \nTaking aim at Brexit\, borders\, protocols and politicians\, Patrick tries to make sense of what a dis-United Kingdom and a dis-United Ireland means for the future of our islands. \nBittersweet\, poignant and laugh out loud funny\, Borderline is a comedic love letter to the future of our land from this award-winning comedian’s personal past. \nSOLD OUT
URL:https://theoldchurchcentre.com/event/borderline/
LOCATION:Cushendun
CATEGORIES:Comedy
ATTACH;FMTTYPE=image/jpeg:https://theoldchurchcentre.com/wp-content/uploads/2022/02/PJ-Live-at-the-Old-Church-Centre-Cushendun.jpg
END:VEVENT
BEGIN:VEVENT
DTSTART;TZID=Europe/London:20220220T110000
DTEND;TZID=Europe/London:20220220T160000
DTSTAMP:20260423T174015
CREATED:20220209T125132Z
LAST-MODIFIED:20220209T125132Z
UID:2861-1645354800-1645372800@theoldchurchcentre.com
SUMMARY:Pop Up Tea Shop
DESCRIPTION:New monthly pop up tea shop\nDrop in to the Old Church Centre on Sunday for a hot cuppa\, some tasty treats and a bit of chat.
URL:https://theoldchurchcentre.com/event/pop-up-tea-shop-3/
LOCATION:Cushendun
CATEGORIES:Community
ATTACH;FMTTYPE=image/jpeg:https://theoldchurchcentre.com/wp-content/uploads/2022/02/Pop-Up-Tea-Shop-Feb-2022-1.jpg
END:VEVENT
BEGIN:VEVENT
DTSTART;TZID=Europe/London:20220215T100000
DTEND;TZID=Europe/London:20220215T110000
DTSTAMP:20260423T174015
CREATED:20220106T155024Z
LAST-MODIFIED:20220111T185650Z
UID:2652-1644919200-1644922800@theoldchurchcentre.com
SUMMARY:Tai Chi with Philip Johnston
DESCRIPTION:Please click here to book your place.
URL:https://theoldchurchcentre.com/event/tai-chi-with-philip-johnston-2-2022-02-15/
LOCATION:Cushendun
CATEGORIES:Class
END:VEVENT
BEGIN:VEVENT
DTSTART;TZID=Europe/London:20220213T140000
DTEND;TZID=Europe/London:20220213T210000
DTSTAMP:20260423T174015
CREATED:20220207T170237Z
LAST-MODIFIED:20220207T170659Z
UID:2823-1644760800-1644786000@theoldchurchcentre.com
SUMMARY:Cushendun Community Cinema
DESCRIPTION:The Cinema Club is back!\n  \nJoin us for some Sunday afternoon entertainment on 13 February\n2pm Kids Movie: Despicable Me (BYO snacks) \nBook here: https://www.ticketsource.co.uk/cushendunbpt/t-onajzv \n7.30pm Adults Movie: The Guard (BYOB) \nBook here: https://www.ticketsource.co.uk/cushendunbpt/t-qrgjgx
URL:https://theoldchurchcentre.com/event/cushendun-community-cinema/
LOCATION:Cushendun
CATEGORIES:Comedy,Community Cinema
ATTACH;FMTTYPE=image/jpeg:https://theoldchurchcentre.com/wp-content/uploads/2022/02/CUSHENDUN-COMMUNITY-CINEMA.jpg
END:VEVENT
BEGIN:VEVENT
DTSTART;TZID=Europe/London:20220208T100000
DTEND;TZID=Europe/London:20220208T110000
DTSTAMP:20260423T174015
CREATED:20220106T155023Z
LAST-MODIFIED:20220111T185605Z
UID:2651-1644314400-1644318000@theoldchurchcentre.com
SUMMARY:Tai Chi with Philip Johnston
DESCRIPTION:Please click here to book your place.
URL:https://theoldchurchcentre.com/event/tai-chi-with-philip-johnston-2-2022-02-08/
LOCATION:Cushendun
CATEGORIES:Class
END:VEVENT
BEGIN:VEVENT
DTSTART;TZID=Europe/London:20220205T110000
DTEND;TZID=Europe/London:20220205T160000
DTSTAMP:20260423T174015
CREATED:20220201T141241Z
LAST-MODIFIED:20220201T141241Z
UID:2806-1644058800-1644076800@theoldchurchcentre.com
SUMMARY:Imbolc/Brigid's Day Celebration
DESCRIPTION:Imbolc/Brigid’s Day Celebration\n\nJoin Folk & Flora to celebrate the ancient Celtic festival of Imbolc.\n\nSaturday 5th February 2022\n11am-4pm\n£60 \nImbolc\, later turned into St.Brigid’s Day or Candlemas\, is traditionally celebrated on February 1st-2nd and marks the start of spring in the Celtic calendar. It once belonged to the ancient Irish Goddess Brigid and we will learn about her whilst visiting a holy well before taking a walk in a stunning\, local\, native woodland\, where we will have a chance to welcome spring and practice grounding ourselves in the landscape before tucking into a delicious Ursa Minor packed lunch. \nWe will then make our way to Cushendun’s Old Church Centre for a Brigid’s Cross workshop whilst warming up with tea or coffee\, before a rejuvenating and restorative yoga practice. \nN.B The way into the woods is steep\, please ensure you have adequate footwear. \nLunch will be provided on the walk but please bring your own beverage. If you have any dietary or allergy requirements please message before the day. \n\nhttps://www.folkandflora.ie/shop/imblocbrigids-day-celebration
URL:https://theoldchurchcentre.com/event/imbolc-brigids-day-celebration/
LOCATION:Cushendun
CATEGORIES:Class,Private Hire
END:VEVENT
BEGIN:VEVENT
DTSTART;TZID=Europe/London:20220201T100000
DTEND;TZID=Europe/London:20220201T110000
DTSTAMP:20260423T174015
CREATED:20220106T155023Z
LAST-MODIFIED:20220111T185502Z
UID:2650-1643709600-1643713200@theoldchurchcentre.com
SUMMARY:Tai Chi with Philip Johnston
DESCRIPTION:Please click here to book your place: \nhttps://www.ticketsource.co.uk/cushendunbpt/t-jezxyg \n 
URL:https://theoldchurchcentre.com/event/tai-chi-with-philip-johnston-2-2022-02-01/
LOCATION:Cushendun
CATEGORIES:Class
END:VEVENT
BEGIN:VEVENT
DTSTART;TZID=Europe/London:20220125T100000
DTEND;TZID=Europe/London:20220125T110000
DTSTAMP:20260423T174015
CREATED:20220106T155023Z
LAST-MODIFIED:20220111T185417Z
UID:2649-1643104800-1643108400@theoldchurchcentre.com
SUMMARY:Tai Chi with Philip Johnston
DESCRIPTION:Please click here to book your place: \nhttps://www.ticketsource.co.uk/cushendunbpt/t-gnalov
URL:https://theoldchurchcentre.com/event/tai-chi-with-philip-johnston-2-2022-01-25/
LOCATION:Cushendun
CATEGORIES:Class
END:VEVENT
BEGIN:VEVENT
DTSTART;TZID=Europe/London:20220118T100000
DTEND;TZID=Europe/London:20220118T110000
DTSTAMP:20260423T174015
CREATED:20220106T155023Z
LAST-MODIFIED:20220119T113937Z
UID:2648-1642500000-1642503600@theoldchurchcentre.com
SUMMARY:Tai Chi with Philip Johnston
DESCRIPTION:
URL:https://theoldchurchcentre.com/event/tai-chi-with-philip-johnston-2-2022-01-18/
LOCATION:Cushendun
CATEGORIES:Class
ATTACH;FMTTYPE=image/jpeg:https://theoldchurchcentre.com/wp-content/uploads/2021/11/Tai-Chi-Poster.jpg
END:VEVENT
BEGIN:VEVENT
DTSTART;TZID=Europe/London:20220111T100000
DTEND;TZID=Europe/London:20220111T110000
DTSTAMP:20260423T174015
CREATED:20220106T155023Z
LAST-MODIFIED:20220130T154620Z
UID:2645-1641895200-1641898800@theoldchurchcentre.com
SUMMARY:Tai Chi with Philip Johnston
DESCRIPTION:
URL:https://theoldchurchcentre.com/event/tai-chi-with-philip-johnston-2/2022-01-11/
LOCATION:Cushendun
CATEGORIES:Class
ATTACH;FMTTYPE=image/jpeg:https://theoldchurchcentre.com/wp-content/uploads/2021/11/Tai-Chi-Poster.jpg
END:VEVENT
BEGIN:VEVENT
DTSTART;TZID=Europe/London:20211205T140000
DTEND;TZID=Europe/London:20211205T154500
DTSTAMP:20260423T174015
CREATED:20211127T135210Z
LAST-MODIFIED:20211127T135332Z
UID:2613-1638712800-1638719100@theoldchurchcentre.com
SUMMARY:Paddington 2 (Cushendun Community Cinema)
DESCRIPTION:Paddington\, now happily settled with the Brown family and a popular member of the local community picks up a series of odd jobs to buy the perfect present for his Aunt Lucy’s 100th birthday\, only for the gift to be stolen. \nPlease book online using our online ticketing system by clicking here.
URL:https://theoldchurchcentre.com/event/paddington-2-cushendun-community-cinema/
LOCATION:Cushendun
CATEGORIES:Community Cinema
ATTACH;FMTTYPE=image/jpeg:https://theoldchurchcentre.com/wp-content/uploads/2021/11/Paddington2.jpg
END:VEVENT
END:VCALENDAR